BEGIN:VCALENDAR
VERSION:2.0
PRODID:-//vTECH - ECPv6.15.20//NONSGML v1.0//EN
CALSCALE:GREGORIAN
METHOD:PUBLISH
X-WR-CALNAME:vTECH
X-ORIGINAL-URL:https://vtechcio.com
X-WR-CALDESC:Events for vTECH
REFRESH-INTERVAL;VALUE=DURATION:PT1H
X-Robots-Tag:noindex
X-PUBLISHED-TTL:PT1H
BEGIN:VTIMEZONE
TZID:America/New_York
BEGIN:DAYLIGHT
TZOFFSETFROM:-0500
TZOFFSETTO:-0400
TZNAME:EDT
DTSTART:20230312T070000
END:DAYLIGHT
BEGIN:STANDARD
TZOFFSETFROM:-0400
TZOFFSETTO:-0500
TZNAME:EST
DTSTART:20231105T060000
END:STANDARD
BEGIN:DAYLIGHT
TZOFFSETFROM:-0500
TZOFFSETTO:-0400
TZNAME:EDT
DTSTART:20240310T070000
END:DAYLIGHT
BEGIN:STANDARD
TZOFFSETFROM:-0400
TZOFFSETTO:-0500
TZNAME:EST
DTSTART:20241103T060000
END:STANDARD
BEGIN:DAYLIGHT
TZOFFSETFROM:-0500
TZOFFSETTO:-0400
TZNAME:EDT
DTSTART:20250309T070000
END:DAYLIGHT
BEGIN:STANDARD
TZOFFSETFROM:-0400
TZOFFSETTO:-0500
TZNAME:EST
DTSTART:20251102T060000
END:STANDARD
END:VTIMEZONE
BEGIN:VEVENT
DTSTART;VALUE=DATE:20240306
DTEND;VALUE=DATE:20240307
DTSTAMP:20260422T190941
CREATED:20231221T184815Z
LAST-MODIFIED:20231221T185051Z
UID:721-1709683200-1709769599@vtechcio.com
SUMMARY:CIO Leadership Forum - Sandusky
DESCRIPTION:The vision of the CIO Leadership Forum is to establish a local learning community of IT Executives by hosting a safe and pressure free setting where you can collaborate with other executives in the midst of the same challenges and opportunities. \nNo Cost to Participate\nNo Selling or Buying\nBy Invitation Only – Not Transferable\nMembership Driven Agenda\nWe Start and End on Time\nListen – Seek first to understand\, then to be understood\nAgree to keep discussion tops confidential
URL:https://vtechcio.com/event-schedule/cio-leadership-forum-sandusky-3624/
LOCATION:Sandusky\, Ohio\, Kalahari Conference Center 7000 Kalahari Dr.\, Sandusky\, OH\, 44870
CATEGORIES:CIO Leadership Forum
ATTACH;FMTTYPE=image/png:https://vtechcio.com/wp-content/uploads/2023/12/CIO-Leadership-Forum.png
ORGANIZER;CN="Jon Vandertill":MAILTO:Jon.Vandertill@vtechio.com
END:VEVENT
BEGIN:VEVENT
DTSTART;VALUE=DATE:20240306
DTEND;VALUE=DATE:20240307
DTSTAMP:20260422T190941
CREATED:20231221T212221Z
LAST-MODIFIED:20240205T133141Z
UID:836-1709683200-1709769599@vtechcio.com
SUMMARY:CIO Leadership Forum - Tallahassee
DESCRIPTION:The vision of the CIO Leadership Forum is to establish a local learning community of IT Executives by hosting a safe and pressure free setting where you can collaborate with other executives in the midst of the same challenges and opportunities. \nNo Cost to Participate\nNo Selling or Buying\nBy Invitation Only – Not Transferable\nMembership Driven Agenda\nWe Start and End on Time\nListen – Seek first to understand\, then to be understood\nAgree to keep discussion tops confidential
URL:https://vtechcio.com/event-schedule/cio-leadership-forum-tallahassee-3624/
LOCATION:Tallahassee\, FL\, Riccardo's Restaurant - 1950 Thomasville Rd.\, Tallahassee\, FL\, 32303
CATEGORIES:CIO Leadership Forum
ATTACH;FMTTYPE=image/png:https://vtechcio.com/wp-content/uploads/2023/12/CIO-Leadership-Forum.png
ORGANIZER;CN="Alex Charwin":MAILTO:Alex.Charwin@vtechio.com
END:VEVENT
BEGIN:VEVENT
DTSTART;VALUE=DATE:20240313
DTEND;VALUE=DATE:20240314
DTSTAMP:20260422T190941
CREATED:20240308T230648Z
LAST-MODIFIED:20240308T230648Z
UID:945-1710288000-1710374399@vtechcio.com
SUMMARY:CIO Leadership Forum - Lakeland
DESCRIPTION:The vision of the CIO Leadership Forum is to establish a local learning community of IT Executives by hosting a safe and pressure free setting where you can collaborate with other executives in the midst of the same challenges and opportunities. \nNo Cost to Participate\nNo Selling or Buying\nBy Invitation Only – Not Transferable\nMembership Driven Agenda\nWe Start and End on Time\nListen – Seek first to understand\, then to be understood\nAgree to keep discussion tops confidential
URL:https://vtechcio.com/event-schedule/cio-leadership-forum-lakeland-3-13/
LOCATION:Lakeland\, Florida
CATEGORIES:CIO Leadership Forum
ATTACH;FMTTYPE=image/png:https://vtechcio.com/wp-content/uploads/2023/12/CIO-Leadership-Forum.png
ORGANIZER;CN="Ron Mattice":MAILTO:Ron.Mattice@vtechio.com
END:VEVENT
BEGIN:VEVENT
DTSTART;VALUE=DATE:20240319
DTEND;VALUE=DATE:20240320
DTSTAMP:20260422T190941
CREATED:20231221T190752Z
LAST-MODIFIED:20231221T190752Z
UID:748-1710806400-1710892799@vtechcio.com
SUMMARY:CIO Leadership Forum - Atlanta
DESCRIPTION:The vision of the CIO Leadership Forum is to establish a local learning community of IT Executives by hosting a safe and pressure free setting where you can collaborate with other executives in the midst of the same challenges and opportunities. \nNo Cost to Participate\nNo Selling or Buying\nBy Invitation Only – Not Transferable\nMembership Driven Agenda\nWe Start and End on Time\nListen – Seek first to understand\, then to be understood\nAgree to keep discussion tops confidential
URL:https://vtechcio.com/event-schedule/cio-leadership-forum-atlanta-31924/
LOCATION:Atlanta\, Georgia\, Capital Grille 94 Perimeter Ctr W\, Dunwoody\, Atlanta\, GA\, 30346
CATEGORIES:CIO Leadership Forum
ATTACH;FMTTYPE=image/png:https://vtechcio.com/wp-content/uploads/2023/12/CIO-Leadership-Forum.png
ORGANIZER;CN="Megan Hicks":MAILTO:Megan.Hicks@vtechio.com
END:VEVENT
BEGIN:VEVENT
DTSTART;VALUE=DATE:20240320
DTEND;VALUE=DATE:20240321
DTSTAMP:20260422T190941
CREATED:20231221T203649Z
LAST-MODIFIED:20240221T183733Z
UID:776-1710892800-1710979199@vtechcio.com
SUMMARY:CIO Leadership Forum - South FL
DESCRIPTION:The vision of the CIO Leadership Forum is to establish a local learning community of IT Executives by hosting a safe and pressure free setting where you can collaborate with other executives in the midst of the same challenges and opportunities. \nNo Cost to Participate\nNo Selling or Buying\nBy Invitation Only – Not Transferable\nMembership Driven Agenda\nWe Start and End on Time\nListen – Seek first to understand\, then to be understood\nAgree to keep discussion tops confidential
URL:https://vtechcio.com/event-schedule/cio-leadership-forum-southfl-31324/
LOCATION:South Florida
CATEGORIES:CIO Leadership Forum
ATTACH;FMTTYPE=image/png:https://vtechcio.com/wp-content/uploads/2023/12/CIO-Leadership-Forum.png
ORGANIZER;CN="Kevin Kaufman":MAILTO:kevin.kaufman@vtechio.com
END:VEVENT
BEGIN:VEVENT
DTSTART;VALUE=DATE:20240326
DTEND;VALUE=DATE:20240327
DTSTAMP:20260422T190941
CREATED:20231227T211718Z
LAST-MODIFIED:20231227T211718Z
UID:861-1711411200-1711497599@vtechcio.com
SUMMARY:CIO Leadership Forum - St. Petersburg
DESCRIPTION:The vision of the CIO Leadership Forum is to establish a local learning community of IT Executives by hosting a safe and pressure free setting where you can collaborate with other executives in the midst of the same challenges and opportunities. \nNo Cost to Participate\nNo Selling or Buying\nBy Invitation Only – Not Transferable\nMembership Driven Agenda\nWe Start and End on Time\nListen – Seek first to understand\, then to be understood\nAgree to keep discussion tops confidential
URL:https://vtechcio.com/event-schedule/cio-leadership-forum-stpete/
LOCATION:St. Petersburg\, FL
CATEGORIES:CIO Leadership Forum
ATTACH;FMTTYPE=image/png:https://vtechcio.com/wp-content/uploads/2023/12/CIO-Leadership-Forum.png
ORGANIZER;CN="Austin MacLeod":MAILTO:Austin.Macleod@vtechio.com
END:VEVENT
END:VCALENDAR