BEGIN:VCALENDAR
VERSION:2.0
PRODID:-//vTECH - ECPv6.15.20//NONSGML v1.0//EN
CALSCALE:GREGORIAN
METHOD:PUBLISH
X-ORIGINAL-URL:https://vtechcio.com
X-WR-CALDESC:Events for vTECH
REFRESH-INTERVAL;VALUE=DURATION:PT1H
X-Robots-Tag:noindex
X-PUBLISHED-TTL:PT1H
BEGIN:VTIMEZONE
TZID:America/New_York
BEGIN:DAYLIGHT
TZOFFSETFROM:-0500
TZOFFSETTO:-0400
TZNAME:EDT
DTSTART:20240310T070000
END:DAYLIGHT
BEGIN:STANDARD
TZOFFSETFROM:-0400
TZOFFSETTO:-0500
TZNAME:EST
DTSTART:20241103T060000
END:STANDARD
BEGIN:DAYLIGHT
TZOFFSETFROM:-0500
TZOFFSETTO:-0400
TZNAME:EDT
DTSTART:20250309T070000
END:DAYLIGHT
BEGIN:STANDARD
TZOFFSETFROM:-0400
TZOFFSETTO:-0500
TZNAME:EST
DTSTART:20251102T060000
END:STANDARD
BEGIN:DAYLIGHT
TZOFFSETFROM:-0500
TZOFFSETTO:-0400
TZNAME:EDT
DTSTART:20260308T070000
END:DAYLIGHT
BEGIN:STANDARD
TZOFFSETFROM:-0400
TZOFFSETTO:-0500
TZNAME:EST
DTSTART:20261101T060000
END:STANDARD
END:VTIMEZONE
BEGIN:VEVENT
DTSTART;VALUE=DATE:20250501
DTEND;VALUE=DATE:20250502
DTSTAMP:20260421T200622
CREATED:20241210T192404Z
LAST-MODIFIED:20241210T192404Z
UID:1127-1746057600-1746143999@vtechcio.com
SUMMARY:CIO Leadership Forum - Sarasota
DESCRIPTION:The vision of the CIO Leadership Forum is to establish a local learning community of IT Executives by hosting a safe and pressure free setting where you can collaborate with other executives in the midst of the same challenges and opportunities. \nNo Cost to Participate\nNo Selling or Buying\nBy Invitation Only – Not Transferable\nMembership Driven Agenda\nWe Start and End on Time\nListen – Seek first to understand\, then to be understood\nAgree to keep discussion tops confidential
URL:https://vtechcio.com/event-schedule/cio-leadership-forum-sarasota-3/
LOCATION:Sarasota\, FL\, Seasons 52 - 170 University Town Center Dr Suite 103\, Sarasota\, FL\, 34243
CATEGORIES:CIO Leadership Forum
ATTACH;FMTTYPE=image/png:https://vtechcio.com/wp-content/uploads/2023/12/CIO-Leadership-Forum.png
ORGANIZER;CN="Austin MacLeod":MAILTO:Austin.Macleod@vtechio.com
END:VEVENT
BEGIN:VEVENT
DTSTART;VALUE=DATE:20250507
DTEND;VALUE=DATE:20250508
DTSTAMP:20260421T200622
CREATED:20241210T192757Z
LAST-MODIFIED:20241210T192757Z
UID:1129-1746576000-1746662399@vtechcio.com
SUMMARY:CIO Leadership Forum - Atlanta
DESCRIPTION:The vision of the CIO Leadership Forum is to establish a local learning community of IT Executives by hosting a safe and pressure free setting where you can collaborate with other executives in the midst of the same challenges and opportunities. \nNo Cost to Participate\nNo Selling or Buying\nBy Invitation Only – Not Transferable\nMembership Driven Agenda\nWe Start and End on Time\nListen – Seek first to understand\, then to be understood\nAgree to keep discussion tops confidential
URL:https://vtechcio.com/event-schedule/cio-leadership-forum-atlanta-3/
LOCATION:Atlanta\, Georgia\, Capital Grille 94 Perimeter Ctr W\, Dunwoody\, Atlanta\, GA\, 30346
CATEGORIES:CIO Leadership Forum
ATTACH;FMTTYPE=image/png:https://vtechcio.com/wp-content/uploads/2023/12/CIO-Leadership-Forum.png
ORGANIZER;CN="Megan Hicks":MAILTO:Megan.Hicks@vtechio.com
END:VEVENT
BEGIN:VEVENT
DTSTART;VALUE=DATE:20250528
DTEND;VALUE=DATE:20250529
DTSTAMP:20260421T200622
CREATED:20241210T192933Z
LAST-MODIFIED:20241210T192933Z
UID:1131-1748390400-1748476799@vtechcio.com
SUMMARY:CIO Leadership Forum - Orlando
DESCRIPTION:The vision of the CIO Leadership Forum is to establish a local learning community of IT Executives by hosting a safe and pressure free setting where you can collaborate with other executives in the midst of the same challenges and opportunities. \nNo Cost to Participate\nNo Selling or Buying\nBy Invitation Only – Not Transferable\nMembership Driven Agenda\nWe Start and End on Time\nListen – Seek first to understand\, then to be understood\nAgree to keep discussion tops confidential
URL:https://vtechcio.com/event-schedule/cio-leadership-forum-orlando-4/
LOCATION:Orlando\, FL\, Pisces Rising 239 W 4th Ave.\, Mount Dora\, FL\, 32757
CATEGORIES:CIO Leadership Forum
ATTACH;FMTTYPE=image/png:https://vtechcio.com/wp-content/uploads/2023/12/CIO-Leadership-Forum.png
ORGANIZER;CN="Dan Beeman":MAILTO:Dan.Beeman@vtechio.com
END:VEVENT
END:VCALENDAR