BEGIN:VCALENDAR
VERSION:2.0
PRODID:-//vTECH - ECPv6.15.20//NONSGML v1.0//EN
CALSCALE:GREGORIAN
METHOD:PUBLISH
X-WR-CALNAME:vTECH
X-ORIGINAL-URL:https://vtechcio.com
X-WR-CALDESC:Events for vTECH
REFRESH-INTERVAL;VALUE=DURATION:PT1H
X-Robots-Tag:noindex
X-PUBLISHED-TTL:PT1H
BEGIN:VTIMEZONE
TZID:America/New_York
BEGIN:DAYLIGHT
TZOFFSETFROM:-0500
TZOFFSETTO:-0400
TZNAME:EDT
DTSTART:20240310T070000
END:DAYLIGHT
BEGIN:STANDARD
TZOFFSETFROM:-0400
TZOFFSETTO:-0500
TZNAME:EST
DTSTART:20241103T060000
END:STANDARD
BEGIN:DAYLIGHT
TZOFFSETFROM:-0500
TZOFFSETTO:-0400
TZNAME:EDT
DTSTART:20250309T070000
END:DAYLIGHT
BEGIN:STANDARD
TZOFFSETFROM:-0400
TZOFFSETTO:-0500
TZNAME:EST
DTSTART:20251102T060000
END:STANDARD
BEGIN:DAYLIGHT
TZOFFSETFROM:-0500
TZOFFSETTO:-0400
TZNAME:EDT
DTSTART:20260308T070000
END:DAYLIGHT
BEGIN:STANDARD
TZOFFSETFROM:-0400
TZOFFSETTO:-0500
TZNAME:EST
DTSTART:20261101T060000
END:STANDARD
END:VTIMEZONE
BEGIN:VEVENT
DTSTART;VALUE=DATE:20251203
DTEND;VALUE=DATE:20251204
DTSTAMP:20260423T075204
CREATED:20241210T211549Z
LAST-MODIFIED:20241210T211549Z
UID:1160-1764720000-1764806399@vtechcio.com
SUMMARY:CIO Leadership Forum - Atlanta
DESCRIPTION:The vision of the CIO Leadership Forum is to establish a local learning community of IT Executives by hosting a safe and pressure free setting where you can collaborate with other executives in the midst of the same challenges and opportunities. \nNo Cost to Participate\nNo Selling or Buying\nBy Invitation Only – Not Transferable\nMembership Driven Agenda\nWe Start and End on Time\nListen – Seek first to understand\, then to be understood\nAgree to keep discussion tops confidential
URL:https://vtechcio.com/event-schedule/cio-leadership-forum-atlanta-5/
LOCATION:Atlanta\, Georgia\, Capital Grille 94 Perimeter Ctr W\, Dunwoody\, Atlanta\, GA\, 30346
CATEGORIES:CIO Leadership Forum
ATTACH;FMTTYPE=image/png:https://vtechcio.com/wp-content/uploads/2023/12/CIO-Leadership-Forum.png
ORGANIZER;CN="Megan Hicks":MAILTO:Megan.Hicks@vtechio.com
END:VEVENT
BEGIN:VEVENT
DTSTART;VALUE=DATE:20251204
DTEND;VALUE=DATE:20251205
DTSTAMP:20260423T075204
CREATED:20241210T212125Z
LAST-MODIFIED:20241210T212125Z
UID:1162-1764806400-1764892799@vtechcio.com
SUMMARY:CIO Leadership Forum - Wauchula
DESCRIPTION:The vision of the CIO Leadership Forum is to establish a local learning community of IT Executives by hosting a safe and pressure free setting where you can collaborate with other executives in the midst of the same challenges and opportunities. \nNo Cost to Participate\nNo Selling or Buying\nBy Invitation Only – Not Transferable\nMembership Driven Agenda\nWe Start and End on Time\nListen – Seek first to understand\, then to be understood\nAgree to keep discussion tops confidential
URL:https://vtechcio.com/event-schedule/cio-leadership-forum-wauchula-4/
LOCATION:Wauchula\, FL\, Giovanni's - 221 W Main St.\, Wauchula\, FL\, 33873
CATEGORIES:CIO Leadership Forum
ATTACH;FMTTYPE=image/png:https://vtechcio.com/wp-content/uploads/2023/12/CIO-Leadership-Forum.png
ORGANIZER;CN="Austin MacLeod":MAILTO:Austin.Macleod@vtechio.com
END:VEVENT
BEGIN:VEVENT
DTSTART;VALUE=DATE:20251217
DTEND;VALUE=DATE:20251218
DTSTAMP:20260423T075204
CREATED:20241210T212638Z
LAST-MODIFIED:20241210T212638Z
UID:1164-1765929600-1766015999@vtechcio.com
SUMMARY:CIO Leadership Forum - Sebring
DESCRIPTION:The vision of the CIO Leadership Forum is to establish a local learning community of IT Executives by hosting a safe and pressure free setting where you can collaborate with other executives in the midst of the same challenges and opportunities. \nNo Cost to Participate\nNo Selling or Buying\nBy Invitation Only – Not Transferable\nMembership Driven Agenda\nWe Start and End on Time\nListen – Seek first to understand\, then to be understood\nAgree to keep discussion tops confidential
URL:https://vtechcio.com/event-schedule/cio-leadership-forum-sebring-3/
LOCATION:Sebring\, FL
CATEGORIES:CIO Leadership Forum
ATTACH;FMTTYPE=image/png:https://vtechcio.com/wp-content/uploads/2023/12/CIO-Leadership-Forum.png
ORGANIZER;CN="Dan Beeman":MAILTO:Dan.Beeman@vtechio.com
END:VEVENT
BEGIN:VEVENT
DTSTART;VALUE=DATE:20251218
DTEND;VALUE=DATE:20251219
DTSTAMP:20260423T075204
CREATED:20241210T212830Z
LAST-MODIFIED:20241210T212830Z
UID:1166-1766016000-1766102399@vtechcio.com
SUMMARY:CIO Leadership Forum - Melbourne
DESCRIPTION:The vision of the CIO Leadership Forum is to establish a local learning community of IT Executives by hosting a safe and pressure free setting where you can collaborate with other executives in the midst of the same challenges and opportunities. \nNo Cost to Participate\nNo Selling or Buying\nBy Invitation Only – Not Transferable\nMembership Driven Agenda\nWe Start and End on Time\nListen – Seek first to understand\, then to be understood\nAgree to keep discussion tops confidential
URL:https://vtechcio.com/event-schedule/cio-leadership-forum-melbourne-4/
LOCATION:Melbourne\, FL\, Yellow Dog Cafe 905 US-1\, Malabar\, FL\, 32950
CATEGORIES:CIO Leadership Forum
ATTACH;FMTTYPE=image/png:https://vtechcio.com/wp-content/uploads/2023/12/CIO-Leadership-Forum.png
ORGANIZER;CN="Dan Beeman":MAILTO:Dan.Beeman@vtechio.com
END:VEVENT
END:VCALENDAR