BEGIN:VCALENDAR
VERSION:2.0
PRODID:-//vTECH - ECPv6.15.20//NONSGML v1.0//EN
CALSCALE:GREGORIAN
METHOD:PUBLISH
X-ORIGINAL-URL:https://vtechcio.com
X-WR-CALDESC:Events for vTECH
REFRESH-INTERVAL;VALUE=DURATION:PT1H
X-Robots-Tag:noindex
X-PUBLISHED-TTL:PT1H
BEGIN:VTIMEZONE
TZID:America/New_York
BEGIN:DAYLIGHT
TZOFFSETFROM:-0500
TZOFFSETTO:-0400
TZNAME:EDT
DTSTART:20250309T070000
END:DAYLIGHT
BEGIN:STANDARD
TZOFFSETFROM:-0400
TZOFFSETTO:-0500
TZNAME:EST
DTSTART:20251102T060000
END:STANDARD
BEGIN:DAYLIGHT
TZOFFSETFROM:-0500
TZOFFSETTO:-0400
TZNAME:EDT
DTSTART:20260308T070000
END:DAYLIGHT
BEGIN:STANDARD
TZOFFSETFROM:-0400
TZOFFSETTO:-0500
TZNAME:EST
DTSTART:20261101T060000
END:STANDARD
BEGIN:DAYLIGHT
TZOFFSETFROM:-0500
TZOFFSETTO:-0400
TZNAME:EDT
DTSTART:20270314T070000
END:DAYLIGHT
BEGIN:STANDARD
TZOFFSETFROM:-0400
TZOFFSETTO:-0500
TZNAME:EST
DTSTART:20271107T060000
END:STANDARD
END:VTIMEZONE
BEGIN:VEVENT
DTSTART;VALUE=DATE:20260303
DTEND;VALUE=DATE:20260304
DTSTAMP:20260421T045232
CREATED:20260102T181556Z
LAST-MODIFIED:20260102T181556Z
UID:1639-1772496000-1772582399@vtechcio.com
SUMMARY:CIO Leadership Forum - Davie
DESCRIPTION:The vision of the CIO Leadership Forum is to establish a local learning community of IT Executives by hosting a safe and pressure free setting where you can collaborate with other executives in the midst of the same challenges and opportunities. \nNo Cost to Participate\nNo Selling or Buying\nBy Invitation Only – Not Transferable\nMembership Driven Agenda\nWe Start and End on Time\nListen – Seek first to understand\, then to be understood\nAgree to keep discussion tops confidential
URL:https://vtechcio.com/event-schedule/cio-leadership-forum-davie-3/
LOCATION:Davie\, FL
CATEGORIES:CIO Leadership Forum
ATTACH;FMTTYPE=image/png:https://vtechcio.com/wp-content/uploads/2023/12/CIO-Leadership-Forum.png
ORGANIZER;CN="Kevin Kaufman":MAILTO:kevin.kaufman@vtechio.com
END:VEVENT
BEGIN:VEVENT
DTSTART;VALUE=DATE:20260306
DTEND;VALUE=DATE:20260307
DTSTAMP:20260421T045232
CREATED:20260102T182953Z
LAST-MODIFIED:20260102T182953Z
UID:1641-1772755200-1772841599@vtechcio.com
SUMMARY:CIO Leadership Forum - Key West
DESCRIPTION:The vision of the CIO Leadership Forum is to establish a local learning community of IT Executives by hosting a safe and pressure free setting where you can collaborate with other executives in the midst of the same challenges and opportunities. \nNo Cost to Participate\nNo Selling or Buying\nBy Invitation Only – Not Transferable\nMembership Driven Agenda\nWe Start and End on Time\nListen – Seek first to understand\, then to be understood\nAgree to keep discussion tops confidential
URL:https://vtechcio.com/event-schedule/cio-leadership-forum-key-west/
LOCATION:Key West\, Florida
CATEGORIES:CIO Leadership Forum
ATTACH;FMTTYPE=image/png:https://vtechcio.com/wp-content/uploads/2023/12/CIO-Leadership-Forum.png
ORGANIZER;CN="Ron Mattice":MAILTO:Ron.Mattice@vtechio.com
END:VEVENT
BEGIN:VEVENT
DTSTART;VALUE=DATE:20260306
DTEND;VALUE=DATE:20260307
DTSTAMP:20260421T045233
CREATED:20260102T185416Z
LAST-MODIFIED:20260102T190006Z
UID:1643-1772755200-1772841599@vtechcio.com
SUMMARY:CIO Leadership Forum - Sarasota
DESCRIPTION:The vision of the CIO Leadership Forum is to establish a local learning community of IT Executives by hosting a safe and pressure free setting where you can collaborate with other executives in the midst of the same challenges and opportunities. \nNo Cost to Participate\nNo Selling or Buying\nBy Invitation Only – Not Transferable\nMembership Driven Agenda\nWe Start and End on Time\nListen – Seek first to understand\, then to be understood\nAgree to keep discussion tops confidential
URL:https://vtechcio.com/event-schedule/cio-leadership-forum-sarasota-6/
LOCATION:Sarasota\, FL\, Seasons 52 - 170 University Town Center Dr Suite 103\, Sarasota\, FL\, 34243
CATEGORIES:CIO Leadership Forum
ATTACH;FMTTYPE=image/png:https://vtechcio.com/wp-content/uploads/2023/12/CIO-Leadership-Forum.png
ORGANIZER;CN="Ron Mattice":MAILTO:Ron.Mattice@vtechio.com
END:VEVENT
BEGIN:VEVENT
DTSTART;VALUE=DATE:20260311
DTEND;VALUE=DATE:20260312
DTSTAMP:20260421T045233
CREATED:20260102T185800Z
LAST-MODIFIED:20260102T185800Z
UID:1648-1773187200-1773273599@vtechcio.com
SUMMARY:CIO Leadership Forum - Melbourne
DESCRIPTION:The vision of the CIO Leadership Forum is to establish a local learning community of IT Executives by hosting a safe and pressure free setting where you can collaborate with other executives in the midst of the same challenges and opportunities. \nNo Cost to Participate\nNo Selling or Buying\nBy Invitation Only – Not Transferable\nMembership Driven Agenda\nWe Start and End on Time\nListen – Seek first to understand\, then to be understood\nAgree to keep discussion tops confidential
URL:https://vtechcio.com/event-schedule/cio-leadership-forum-melbourne-3/
LOCATION:Melbourne\, FL\, Yellow Dog Cafe 905 US-1\, Malabar\, FL\, 32950
CATEGORIES:CIO Leadership Forum
ATTACH;FMTTYPE=image/png:https://vtechcio.com/wp-content/uploads/2023/12/CIO-Leadership-Forum.png
ORGANIZER;CN="Dan Beeman":MAILTO:Dan.Beeman@vtechio.com
END:VEVENT
BEGIN:VEVENT
DTSTART;VALUE=DATE:20260312
DTEND;VALUE=DATE:20260313
DTSTAMP:20260421T045233
CREATED:20260102T191517Z
LAST-MODIFIED:20260102T205750Z
UID:1651-1773273600-1773359999@vtechcio.com
SUMMARY:ED-Tech Forum - Bradenton
DESCRIPTION:Education Tech Forum \nThe vision of the Ed-Tech Forum is to establish a local learning community of Education professionals by hosting a safe and pressure free setting where you can collaborate with other professionals in the midst of the same challenges and opportunities.” \nNo Cost to Participate\nNo Selling or Buying\nBy Invitation Only – Not Transferable\nMembership Driven Agenda\nWe Start and End on Time\nListen – Seek first to understand\, then to be understood\nAgree to keep discussion tops confidential
URL:https://vtechcio.com/event-schedule/ed-tech-forum-bradenton-2/
LOCATION:Bradenton\, Fl
CATEGORIES:Ed Tech
ATTACH;FMTTYPE=image/png:https://vtechcio.com/wp-content/uploads/2023/12/CIO-Leadership-Forum.png
ORGANIZER;CN="Chris McDaniel":MAILTO:Chris.McDaniel@vtechio.com
END:VEVENT
BEGIN:VEVENT
DTSTART;VALUE=DATE:20260312
DTEND;VALUE=DATE:20260313
DTSTAMP:20260421T045233
CREATED:20260102T193708Z
LAST-MODIFIED:20260102T193708Z
UID:1653-1773273600-1773359999@vtechcio.com
SUMMARY:CIO Leadership Forum - Atlanta
DESCRIPTION:The vision of the CIO Leadership Forum is to establish a local learning community of IT Executives by hosting a safe and pressure free setting where you can collaborate with other executives in the midst of the same challenges and opportunities. \nNo Cost to Participate\nNo Selling or Buying\nBy Invitation Only – Not Transferable\nMembership Driven Agenda\nWe Start and End on Time\nListen – Seek first to understand\, then to be understood\nAgree to keep discussion tops confidential
URL:https://vtechcio.com/event-schedule/cio-leadership-forum-atlanta-10/
LOCATION:Atlanta\, Georgia\, Capital Grille 94 Perimeter Ctr W\, Dunwoody\, Atlanta\, GA\, 30346
CATEGORIES:CIO Leadership Forum
ATTACH;FMTTYPE=image/png:https://vtechcio.com/wp-content/uploads/2023/12/CIO-Leadership-Forum.png
ORGANIZER;CN="Megan Hicks":MAILTO:Megan.Hicks@vtechio.com
END:VEVENT
BEGIN:VEVENT
DTSTART;VALUE=DATE:20260318
DTEND;VALUE=DATE:20260319
DTSTAMP:20260421T045233
CREATED:20260102T194302Z
LAST-MODIFIED:20260102T194302Z
UID:1655-1773792000-1773878399@vtechcio.com
SUMMARY:CIO Leadership Forum - Tallahassee
DESCRIPTION:The vision of the CIO Leadership Forum is to establish a local learning community of IT Executives by hosting a safe and pressure free setting where you can collaborate with other executives in the midst of the same challenges and opportunities. \nNo Cost to Participate\nNo Selling or Buying\nBy Invitation Only – Not Transferable\nMembership Driven Agenda\nWe Start and End on Time\nListen – Seek first to understand\, then to be understood\nAgree to keep discussion tops confidential
URL:https://vtechcio.com/event-schedule/cio-leadership-forum-tallahassee-4/
LOCATION:Tallahassee\, FL\, Riccardo's Restaurant - 1950 Thomasville Rd.\, Tallahassee\, FL\, 32303
CATEGORIES:CIO Leadership Forum
ATTACH;FMTTYPE=image/png:https://vtechcio.com/wp-content/uploads/2023/12/CIO-Leadership-Forum.png
ORGANIZER;CN="Alex Charwin":MAILTO:Alex.Charwin@vtechio.com
END:VEVENT
BEGIN:VEVENT
DTSTART;VALUE=DATE:20260318
DTEND;VALUE=DATE:20260319
DTSTAMP:20260421T045233
CREATED:20260102T194632Z
LAST-MODIFIED:20260102T194632Z
UID:1657-1773792000-1773878399@vtechcio.com
SUMMARY:CIO Leadership Forum - Lakeland
DESCRIPTION:The vision of the CIO Leadership Forum is to establish a local learning community of IT Executives by hosting a safe and pressure free setting where you can collaborate with other executives in the midst of the same challenges and opportunities. \nNo Cost to Participate\nNo Selling or Buying\nBy Invitation Only – Not Transferable\nMembership Driven Agenda\nWe Start and End on Time\nListen – Seek first to understand\, then to be understood\nAgree to keep discussion tops confidential
URL:https://vtechcio.com/event-schedule/cio-leadership-forum-lakeland/
LOCATION:Lakeland\, Florida
CATEGORIES:CIO Leadership Forum
ATTACH;FMTTYPE=image/png:https://vtechcio.com/wp-content/uploads/2023/12/CIO-Leadership-Forum.png
ORGANIZER;CN="Ron Mattice":MAILTO:Ron.Mattice@vtechio.com
END:VEVENT
END:VCALENDAR